BEGIN:VCALENDAR
VERSION:2.0
PRODID:-//Squarespace Inc/Squarespace 6//v6//EN
BEGIN:VEVENT
UID:59731043579fb3d3def17c5a@squarespace.com
DTSTAMP:20170918T035930Z
DTSTART:20170922T150000Z
DTEND:20170924T200000Z
SUMMARY:Kororāreka - The Ballad of Maggie Flynn
GEO:-36.912842;174.690504
LOCATION:Te Pou Theatre\, 44a Portage Road\, Auckland\, Auckland\, 0600\, N
 ew Zealand
END:VEVENT
END:VCALENDAR
