BEGIN:VCALENDAR
VERSION:2.0
PRODID:-//Squarespace Inc/Squarespace 6//v6//EN
BEGIN:VEVENT
UID:5973224ebf629a8e3df6eb5f@squarespace.com
DTSTAMP:20170723T004738Z
DTSTART:20170916T140000Z
DTEND:20170917T200000Z
SUMMARY:Massive Company: 2-Day Introduction to Theatre
GEO:-36.913043;174.649855
LOCATION:Glen Eden Recreation Centre & Rugby Club Rooms\, 44 Glendale Road\
 , Auckland\, Auckland\, 0602\, New Zealand
END:VEVENT
END:VCALENDAR
