BEGIN:VCALENDAR
VERSION:2.0
PRODID:-//Squarespace Inc/Squarespace 6//v6//EN
BEGIN:VEVENT
UID:59731d7b440243f8d1866658@squarespace.com
DTSTAMP:20170918T040150Z
DTSTART:20170919T230000Z
DTEND:20170920T010000Z
SUMMARY:Cinepoetic Shorts
GEO:-36.938235;174.655463
LOCATION:Lopdell House Theatre\, 418 Titirangi Road\, Auckland\, Auckland\, 
 0604\, New Zealand
END:VEVENT
END:VCALENDAR
