BEGIN:VCALENDAR
VERSION:2.0
PRODID:-//Squarespace Inc/Squarespace 6//v6//EN
BEGIN:VEVENT
UID:59732096d1758e25549ebca7@squarespace.com
DTSTAMP:20180816T031653Z
DTSTART:20170920T230000Z
DTEND:20170921T010000Z
SUMMARY:In My Father's Den
GEO:-36.938235;174.655463
LOCATION:Lopdell House Theatre\, 418 Titirangi Road\, Auckland\, Auckland\, 
 0604\, New Zealand
END:VEVENT
END:VCALENDAR
