BEGIN:VCALENDAR
VERSION:2.0
PRODID:-//Squarespace Inc/Squarespace 6//v6//EN
BEGIN:VEVENT
UID:597706152994ca3cecdf1771@squarespace.com
DTSTAMP:20170825T003502Z
DTSTART:20170909T183000Z
DTEND:20170909T193000Z
SUMMARY:Allen Curnow: A Life in Poetry
GEO:-36.880687;174.63045
LOCATION:Waitakere Central\, West Auckland’s Civic Building in Henderson.\, 
 6 Henderson Valley Road\, Auckland\, Auckland\, 0612\, New Zealand
END:VEVENT
END:VCALENDAR
