BEGIN:VCALENDAR
VERSION:2.0
PRODID:-//Squarespace Inc/Squarespace 6//v6//EN
BEGIN:VEVENT
UID:5973e6e0f7e0ab04b3a427a5@squarespace.com
DTSTAMP:20170825T003520Z
DTSTART:20170909T200000Z
DTEND:20170909T220000Z
SUMMARY:Four Decades At The Fringe of Heaven: Titirangi Poets
GEO:-36.880687;174.63045
LOCATION:Waitakere Central\, West Auckland’s Civic Building in Henderson.\, 
 6 Henderson Valley Road\, Auckland\, Auckland\, 0612\, New Zealand
END:VEVENT
END:VCALENDAR
