BEGIN:VCALENDAR
VERSION:2.0
PRODID:-//Squarespace Inc/Squarespace 6//v6//EN
BEGIN:VEVENT
UID:597711604402434deaa70d3c@squarespace.com
DTSTAMP:20170825T003601Z
DTSTART:20170910T140000Z
DTEND:20170910T143000Z
SUMMARY:Everyday Strength
GEO:-36.880687;174.63045
LOCATION:Waitakere Central\, West Auckland’s Civic Building in Henderson.\, 
 6 Henderson Valley Road\, Auckland\, Auckland\, 0612\, New Zealand
END:VEVENT
END:VCALENDAR
