BEGIN:VCALENDAR
VERSION:2.0
PRODID:-//Squarespace Inc/Squarespace 6//v6//EN
BEGIN:VEVENT
UID:59784dbc46c3c466a28e043d@squarespace.com
DTSTAMP:20170825T003619Z
DTSTART:20170910T150000Z
DTEND:20170910T160000Z
SUMMARY:The Fishing Lines Flow Forward to Te Ao Marama
GEO:-36.880687;174.63045
LOCATION:Waitakere Central\, West Auckland’s Civic Building in Henderson.\, 
 6 Henderson Valley Road\, Auckland\, Auckland\, 0612\, New Zealand
END:VEVENT
END:VCALENDAR
