BEGIN:VCALENDAR
VERSION:2.0
PRODID:-//Squarespace Inc/Squarespace 6//v6//EN
BEGIN:VEVENT
UID:59785fccd482e958fc12af92@squarespace.com
DTSTAMP:20170825T003733Z
DTSTART:20170910T190000Z
DTEND:20170910T200000Z
SUMMARY:Hit the High Road
GEO:-36.880687;174.63045
LOCATION:Waitakere Central\, West Auckland’s Civic Building in Henderson.\, 
 6 Henderson Valley Road\, Auckland\, Auckland\, 0612\, New Zealand
END:VEVENT
END:VCALENDAR
