BEGIN:VCALENDAR
VERSION:2.0
PRODID:-//Squarespace Inc/Squarespace 6//v6//EN
BEGIN:VEVENT
UID:597324de9f7456e023747bb9@squarespace.com
DTSTAMP:20170728T004027Z
DTSTART:20170902T180000Z
DTEND:20170902T190000Z
SUMMARY:Hinepau
GEO:-36.912842;174.690504
LOCATION:Te Pou Theatre\, 44a Portage Road\, Auckland\, Auckland\, 0600\, N
 ew Zealand
END:VEVENT
END:VCALENDAR
