BEGIN:VCALENDAR
VERSION:2.0
PRODID:-//Squarespace Inc/Squarespace 6//v6//EN
BEGIN:VEVENT
UID:5973e853914e6b78503b5755@squarespace.com
DTSTAMP:20170723T000854Z
DTSTART:20170910T150000Z
DTEND:20170910T190000Z
SUMMARY:Indie Book Fair
GEO:-36.938308;174.655186
LOCATION:Te Uru Waitakere Contemporary Gallery\, 420 Titirangi Road\, Auckl
 and\, Auckland\, 0604\, New Zealand
END:VEVENT
END:VCALENDAR
