BEGIN:VCALENDAR
VERSION:2.0
PRODID:-//Squarespace Inc/Squarespace 6//v6//EN
BEGIN:VEVENT
UID:59786f803a04111fe3cf9a67@squarespace.com
DTSTAMP:20170918T040550Z
DTSTART:20170905T150000Z
DTEND:20170919T200000Z
SUMMARY:Libraries
END:VEVENT
END:VCALENDAR
