BEGIN:VCALENDAR
VERSION:2.0
PRODID:-//Squarespace Inc/Squarespace 6//v6//EN
BEGIN:VEVENT
UID:5975727bf5e23104e8b8d4de@squarespace.com
DTSTAMP:20170825T003316Z
DTSTART:20170909T130000Z
DTEND:20170909T134500Z
SUMMARY:Lost Somewhere In Between
GEO:-36.880687;174.63045
LOCATION:Waitakere Central\, West Auckland’s Civic Building in Henderson.\, 
 6 Henderson Valley Road\, Auckland\, Auckland\, 0612\, New Zealand
END:VEVENT
END:VCALENDAR
