BEGIN:VCALENDAR
VERSION:2.0
PRODID:-//Squarespace Inc/Squarespace 6//v6//EN
BEGIN:VEVENT
UID:597568971b631b9a7697652a@squarespace.com
DTSTAMP:20170825T003251Z
DTSTART:20170908T230000Z
DTEND:20170909T020000Z
SUMMARY:Opening Night
GEO:-36.880687;174.63045
LOCATION:Waitakere Central\, West Auckland’s Civic Building in Henderson.\, 
 6 Henderson Valley Road\, Auckland\, Auckland\, 0612\, New Zealand
END:VEVENT
END:VCALENDAR
