BEGIN:VCALENDAR
VERSION:2.0
PRODID:-//Squarespace Inc/Squarespace 6//v6//EN
BEGIN:VEVENT
UID:5973e928ebbd1a4c66f6a4c5@squarespace.com
DTSTAMP:20170731T225707Z
DTSTART:20170917T170000Z
DTEND:20170917T200000Z
SUMMARY:A Botanical Sublime: New Writing for Henderson
GEO:-36.875952;174.626857
LOCATION:Old St Michael's Church Corban Estate Art Centre\, Mount Lebanon L
 ane\, Auckland\, Auckland\, New Zealand
END:VEVENT
END:VCALENDAR
