BEGIN:VCALENDAR
VERSION:2.0
PRODID:-//Squarespace Inc/Squarespace 6//v6//EN
BEGIN:VEVENT
UID:59732655e6f2e17330d4ba7c@squarespace.com
DTSTAMP:20180816T031130Z
DTSTART:20170907T233000Z
DTEND:20170910T003000Z
SUMMARY:Peter Paka Paratene
GEO:-36.912842;174.690504
LOCATION:Te Pou Theatre\, 44a Portage Road\, Auckland\, Auckland\, 0600\, N
 ew Zealand
END:VEVENT
END:VCALENDAR
