BEGIN:VCALENDAR
VERSION:2.0
PRODID:-//Squarespace Inc/Squarespace 6//v6//EN
BEGIN:VEVENT
UID:5978669d197aea7639acc615@squarespace.com
DTSTAMP:20170909T222654Z
DTSTART:20170824T223000Z
DTEND:20170910T013000Z
SUMMARY:Going West Poetry Slam
END:VEVENT
END:VCALENDAR
