BEGIN:VCALENDAR
VERSION:2.0
PRODID:-//Squarespace Inc/Squarespace 6//v6//EN
BEGIN:VEVENT
UID:59785b7cb8a79bbf9ee10f8c@squarespace.com
DTSTAMP:20170910T211645Z
DTSTART:20170910T164500Z
DTEND:20170910T173000Z
SUMMARY:The Power of Story
GEO:-36.880687;174.63045
LOCATION:Waitakere Central\, West Auckland’s Civic Building in Henderson.\, 
 6 Henderson Valley Road\, Auckland\, Auckland\, 0612\, New Zealand
END:VEVENT
END:VCALENDAR
