BEGIN:VCALENDAR
VERSION:2.0
PRODID:-//Squarespace Inc/Squarespace 6//v6//EN
BEGIN:VEVENT
UID:597863d3cf81e0d1e632f1d6@squarespace.com
DTSTAMP:20170728T004141Z
DTSTART:20170909T140000Z
DTEND:20170911T003000Z
SUMMARY:Studio Season 2017: STUFF
GEO:-36.938235;174.655463
LOCATION:Lopdell House Theatre\, 418 Titirangi Road\, Auckland\, Auckland\, 
 0604\, New Zealand
END:VEVENT
END:VCALENDAR
