BEGIN:VCALENDAR
VERSION:2.0
PRODID:-//Squarespace Inc/Squarespace 6//v6//EN
BEGIN:VEVENT
UID:597578f2b8a79b94b0c940fd@squarespace.com
DTSTAMP:20170825T003404Z
DTSTART:20170909T150000Z
DTEND:20170909T160000Z
SUMMARY:Experiments Across Worlds
GEO:-36.880687;174.63045
LOCATION:Waitakere Central\, West Auckland’s Civic Building in Henderson.\, 
 6 Henderson Valley Road\, Auckland\, Auckland\, 0612\, New Zealand
END:VEVENT
END:VCALENDAR
