BEGIN:VCALENDAR
VERSION:2.0
PRODID:-//Squarespace Inc/Squarespace 6//v6//EN
BEGIN:VEVENT
UID:597316265016e132fff09b5f@squarespace.com
DTSTAMP:20170914T005548Z
DTSTART:20170914T230000Z
DTEND:20170916T230000Z
SUMMARY:The Māori Sidesteps
GEO:-36.912842;174.690504
LOCATION:Te Pou Theatre\, 44a Portage Road\, Auckland\, Auckland\, 0600\, N
 ew Zealand
END:VEVENT
END:VCALENDAR
