BEGIN:VCALENDAR
VERSION:2.0
PRODID:-//Squarespace Inc/Squarespace 6//v6//EN
BEGIN:VEVENT
UID:5973ee3ce45a7cc661aa2b0f@squarespace.com
DTSTAMP:20170723T004557Z
DTSTART:20170903T140000Z
DTEND:20170917T190000Z
SUMMARY:Tuhi Tika
GEO:-36.912842;174.690504
LOCATION:Te Pou Theatre\, 44a Portage Road\, Auckland\, Auckland\, 0600\, N
 ew Zealand
END:VEVENT
END:VCALENDAR
