BEGIN:VCALENDAR
VERSION:2.0
PRODID:-//Squarespace Inc/Squarespace 6//v6//EN
BEGIN:VEVENT
UID:5973195e3e00be4843dbff73@squarespace.com
DTSTAMP:20180816T031338Z
DTSTART:20170918T150000Z
DTEND:20170918T170000Z
SUMMARY:Two Films about Two NZ Writers
GEO:-36.938235;174.655463
LOCATION:Lopdell House Theatre\, 418 Titirangi Road\, Auckland\, Auckland\, 
 0604\, New Zealand
END:VEVENT
END:VCALENDAR
