BEGIN:VCALENDAR
VERSION:2.0
PRODID:-//Squarespace Inc/Squarespace 6//v6//EN
BEGIN:VEVENT
UID:5973eb05579fb3d3def8db7e@squarespace.com
DTSTAMP:20170723T004239Z
DTSTART:20170910T140000Z
DTEND:20170910T200000Z
SUMMARY:Whānau Day @ Te Pou
GEO:-36.912842;174.690504
LOCATION:Te Pou Theatre\, 44a Portage Road\, Auckland\, Auckland\, 0600\, N
 ew Zealand
END:VEVENT
END:VCALENDAR
