BEGIN:VCALENDAR
VERSION:2.0
PRODID:-//Squarespace Inc/Squarespace 6//v6//EN
BEGIN:VEVENT
UID:597575717131a526075ecf1a@squarespace.com
DTSTAMP:20170825T003341Z
DTSTART:20170909T134500Z
DTEND:20170909T143000Z
SUMMARY:Words and Melody
GEO:-36.880687;174.63045
LOCATION:Waitakere Central\, West Auckland’s Civic Building in Henderson.\, 
 6 Henderson Valley Road\, Auckland\, Auckland\, 0612\, New Zealand
END:VEVENT
END:VCALENDAR
