BEGIN:VCALENDAR
VERSION:2.0
PRODID:-//Squarespace Inc/Squarespace 6//v6//EN
BEGIN:VEVENT
UID:59786b76cd0f68d2902c4e1d@squarespace.com
DTSTAMP:20170905T233414Z
DTSTART:20170908T230000Z
DTEND:20170909T013000Z
SUMMARY:Word Up Finals
GEO:-36.875952;174.626857
LOCATION:Shed 1\, Corban Estate Arts Centre\, Mount Lebanon Lane\, Auckland
 \, Auckland\, New Zealand
END:VEVENT
END:VCALENDAR
