BEGIN:VCALENDAR
VERSION:2.0
PRODID:-//Squarespace Inc/Squarespace 6//v6//EN
BEGIN:VEVENT
UID:5b3f0b5588251bebcdaae2ab@squarespace.com
DTSTAMP:20180712T074430Z
DTSTART:20180811T140000Z
DTEND:20181104T220000Z
SUMMARY:Te Uru Waitakere Contemporary Gallery
GEO:-36.938363;174.655146
LOCATION:Te Uru Waitakere Contemporary gallery\, 420 Titirangi Road\, Auckl
 and\, Auckland\, 0604\, New Zealand
END:VEVENT
END:VCALENDAR
