BEGIN:VCALENDAR
VERSION:2.0
PRODID:-//Squarespace Inc/Squarespace 6//v6//EN
BEGIN:VEVENT
UID:5b39daf22b6a28042225b1ac@squarespace.com
DTSTAMP:20180712T065926Z
DTSTART:20180915T004500Z
DTEND:20180915T014500Z
SUMMARY:Performance by Tū
GEO:-36.950721;174.652536
LOCATION:Titrangi War Memorial Hall\, South Titirangi Road\, Auckland\, Auc
 kland\, 0604\, New Zealand
END:VEVENT
END:VCALENDAR
