BEGIN:VCALENDAR
VERSION:2.0
PRODID:-//Squarespace Inc/Squarespace 6//v6//EN
BEGIN:VEVENT
UID:5b39de14f950b7743363d8d9@squarespace.com
DTSTAMP:20180816T030055Z
DTSTART:20180915T130000Z
DTEND:20180915T135000Z
SUMMARY:The Life and Death of an Outsider  | Te Oranga me te Matenga o tēta
 hi Manene 
GEO:-36.939057;174.655745
LOCATION:Titrangi War Memorial Hall\, South Titirangi Road\, Auckland\, Auc
 kland\, 0604\, New Zealand
END:VEVENT
END:VCALENDAR
