BEGIN:VCALENDAR
VERSION:2.0
PRODID:-//Squarespace Inc/Squarespace 6//v6//EN
BEGIN:VEVENT
UID:5b3b3e1b6d2a734214574984@squarespace.com
DTSTAMP:20180816T030403Z
DTSTART:20180916T140000Z
DTEND:20180916T144500Z
SUMMARY:How was your first time?  | I pēhea te mahinga tuatahitanga?
GEO:-36.939057;174.655745
LOCATION:Titirangi War Memorial Hall\, South Titirangi Road\, Auckland\, Au
 ckland\, 0604\, New Zealand
END:VEVENT
END:VCALENDAR
