BEGIN:VCALENDAR
VERSION:2.0
PRODID:-//Squarespace Inc/Squarespace 6//v6//EN
BEGIN:VEVENT
UID:5b3b3ae4352f537595013c1b@squarespace.com
DTSTAMP:20180816T030349Z
DTSTART:20180916T131500Z
DTEND:20180916T140000Z
SUMMARY:On Fragile Wings  | I Runga i Ngā Parirau Marore
END:VEVENT
END:VCALENDAR
