BEGIN:VCALENDAR
VERSION:2.0
PRODID:-//Squarespace Inc/Squarespace 6//v6//EN
BEGIN:VEVENT
UID:5b3c86d2352f53933a60822e@squarespace.com
DTSTAMP:20180816T030520Z
DTSTART:20180916T191500Z
DTEND:20180916T200000Z
SUMMARY:Drawing Our Own Histories |  Te Tuhi i ā Tātou Kōrero Tāhuhu ake
GEO:-36.939057;174.655745
LOCATION:Titirangi War Memorial Hall\, South Titirangi Road\, Auckland\, Au
 ckland\, 0604\, New Zealand
END:VEVENT
END:VCALENDAR
