BEGIN:VCALENDAR
VERSION:2.0
PRODID:-//Squarespace Inc/Squarespace 6//v6//EN
BEGIN:VEVENT
UID:5b3f0edf2b6a28ba992f10dc@squarespace.com
DTSTAMP:20180719T050250Z
DTSTART:20180908T180000Z
DTEND:20180908T190000Z
SUMMARY:Outside The Square
GEO:-36.880687;174.63045
LOCATION:Henderson Council Chambers\, 6 Henderson Valley Road\, Auckland\, 
 Auckland\, 0612\, New Zealand
END:VEVENT
END:VCALENDAR
