BEGIN:VCALENDAR
VERSION:2.0
PRODID:-//Squarespace Inc/Squarespace 6//v6//EN
BEGIN:VEVENT
UID:5b3f1148352f532fb84abf2f@squarespace.com
DTSTAMP:20180717T084135Z
DTSTART:20180914T193000Z
DTEND:20180914T203000Z
SUMMARY:A Discovery Walk: When Piha was still a Volcano
GEO:-36.953021;174.468809
LOCATION:South Piha
END:VEVENT
END:VCALENDAR
