BEGIN:VCALENDAR
VERSION:2.0
PRODID:-//Squarespace Inc/Squarespace 6//v6//EN
BEGIN:VEVENT
UID:5b60193f758d46a989b025bd@squarespace.com
DTSTAMP:20180731T083128Z
DTSTART:20180824T200000Z
DTEND:20180824T220000Z
SUMMARY:Going West celebrates National Poetry Day with Training Poets Betwe
 en the Vales
GEO:-36.910828;174.668095
LOCATION:Western Train Line - Sunnyvale to Fruitvale\, 13 Fruitvale Road\, 
 Auckland\, Auckland\, 0600\, New Zealand
END:VEVENT
END:VCALENDAR
