BEGIN:VCALENDAR
VERSION:2.0
PRODID:-//Squarespace Inc/Squarespace 6//v6//EN
BEGIN:VEVENT
UID:5b46be526d2a73a54f734032@squarespace.com
DTSTAMP:20180916T210338Z
DTSTART:20180901T140000Z
DTEND:20180917T010000Z
SUMMARY:Kōanga Festival 2018\, a Mihi to Spring Time
GEO:-36.876722;174.627288
LOCATION:Corban Estate Arts Centre\, Mount Lebanon Lane\, Auckland\, Auckla
 nd\, New Zealand
END:VEVENT
END:VCALENDAR
