BEGIN:VCALENDAR
VERSION:2.0
PRODID:-//Squarespace Inc/Squarespace 6//v6//EN
BEGIN:VEVENT
UID:5b46b66f8a922d14aea48716@squarespace.com
DTSTAMP:20180712T073614Z
DTSTART:20180901T140000Z
DTEND:20180901T170000Z
SUMMARY:Whakatūwheratanga
GEO:30.165883;-95.469159
LOCATION:The Church\, Corban Estate Arts Centre\, Mount Lebanon Lane\, Auck
 land\, Auckland\, New Zealand
END:VEVENT
END:VCALENDAR
