BEGIN:VCALENDAR
VERSION:2.0
PRODID:-//Squarespace Inc/Squarespace 6//v6//EN
BEGIN:VEVENT
UID:5b4db1836d2a73aaf3e935c6@squarespace.com
DTSTAMP:20180816T025934Z
DTSTART:20180912T143000Z
DTEND:20180913T010000Z
SUMMARY:Going West Film Season: NZ Short Films
GEO:-36.938235;174.655463
LOCATION:Titirangi Theatre\, 418 Titirangi Road\, Auckland\, Auckland\, 060
 4\, New Zealand
END:VEVENT
END:VCALENDAR
