BEGIN:VCALENDAR
VERSION:2.0
PRODID:-//Squarespace Inc/Squarespace 6//v6//EN
BEGIN:VEVENT
UID:5b4db38e6d2a73aaf3e96259@squarespace.com
DTSTAMP:20180816T025959Z
DTSTART:20180913T143000Z
DTEND:20180914T010000Z
SUMMARY:Going West Film Season: Mahana
END:VEVENT
END:VCALENDAR
