BEGIN:VCALENDAR
VERSION:2.0
PRODID:-//Squarespace Inc/Squarespace 6//v6//EN
BEGIN:VEVENT
UID:5b3f0106758d46e05463d32b@squarespace.com
DTSTAMP:20180906T011058Z
DTSTART:20180913T140000Z
DTEND:20180915T110000Z
SUMMARY:Studio Season 2018: Mythical Futures
GEO:-36.938235;174.655463
LOCATION:Titirangi Theatre\, 418 Titirangi Road\, Auckland\, Auckland\, 060
 4\, New Zealand
END:VEVENT
END:VCALENDAR
