BEGIN:VCALENDAR
VERSION:2.0
PRODID:-//Squarespace Inc/Squarespace 6//v6//EN
BEGIN:VEVENT
UID:5b39e15803ce646d6a640310@squarespace.com
DTSTAMP:20180712T070042Z
DTSTART:20180915T135000Z
DTEND:20180915T140000Z
SUMMARY:Amy McDaid - a Reading - he Pānuitanga
GEO:-36.939057;174.655745
LOCATION:Titirangi War Memorial Hall\, South Titirangi Road\, Auckland\, Au
 ckland\, 0604\, New Zealand
END:VEVENT
END:VCALENDAR
