BEGIN:VCALENDAR
VERSION:2.0
PRODID:-//Squarespace Inc/Squarespace 6//v6//EN
BEGIN:VEVENT
UID:5b3850b08a922dbccf8de909@squarespace.com
DTSTAMP:20180816T030015Z
DTSTART:20180914T230000Z
DTEND:20180915T014500Z
SUMMARY:Opening Night
GEO:-36.950721;174.652536
LOCATION:Titirangi War Memorial Hall\, South Titirangi Road\, Auckland\, Au
 ckland\, 0604\, New Zealand
END:VEVENT
END:VCALENDAR
