BEGIN:VCALENDAR
VERSION:2.0
PRODID:-//Squarespace Inc/Squarespace 6//v6//EN
BEGIN:VEVENT
UID:5b39dc7f6d2a7342d2f96056@squarespace.com
DTSTAMP:20180712T065833Z
DTSTART:20180914T234500Z
DTEND:20180915T002000Z
SUMMARY:Sir Graeme Douglas Orator:  Paula Morris
END:VEVENT
END:VCALENDAR
