BEGIN:VCALENDAR
VERSION:2.0
PRODID:-//Squarespace Inc/Squarespace 6//v6//EN
BEGIN:VEVENT
UID:5b3855e98a922dbccf8e564d@squarespace.com
DTSTAMP:20180712T065705Z
DTSTART:20180914T232000Z
DTEND:20180914T234500Z
SUMMARY:The Curnow Reader: Serie Barford
GEO:-36.939057;174.655745
LOCATION:Titirangi War Memorial Hall\, South Titirangi Road\, Auckland\, Au
 ckland\, 0604\, New Zealand
END:VEVENT
END:VCALENDAR
