BEGIN:VCALENDAR
VERSION:2.0
PRODID:-//Squarespace Inc/Squarespace 6//v6//EN
BEGIN:VEVENT
UID:5b444e06352f5316538dfc6f@squarespace.com
DTSTAMP:20180710T061639Z
DTSTART:20180914T230000Z
DTEND:20180916T210000Z
SUMMARY:Unity Books at the Books & Writers Weekend
GEO:-36.950721;174.652536
LOCATION:Titirangi War Memorial Hall\, South Titirangi Road\, Auckland\, Au
 ckland\, 0604\, New Zealand
END:VEVENT
END:VCALENDAR
