BEGIN:VCALENDAR
VERSION:2.0
PRODID:-//Squarespace Inc/Squarespace 6//v6//EN
BEGIN:VEVENT
UID:5b3b39d48a922db3b594c152@squarespace.com
DTSTAMP:20180712T071839Z
DTSTART:20180915T210000Z
DTEND:20180915T220000Z
SUMMARY:Book Launch: That Derrida Whom I Derided Died: Poems 2013-2017 by C
 .K. Stead
GEO:-36.939057;174.655745
LOCATION:Titirangi War Memorial Hall\, South Titirangi Road\, Auckland\, Au
 ckland\, 0604\, New Zealand
END:VEVENT
END:VCALENDAR
