BEGIN:VCALENDAR
VERSION:2.0
PRODID:-//Squarespace Inc/Squarespace 6//v6//EN
BEGIN:VEVENT
UID:5b3b337d8a922db3b59434b0@squarespace.com
DTSTAMP:20180816T030224Z
DTSTART:20180915T181500Z
DTEND:20180915T190000Z
SUMMARY:In Search of the New Belonging  | E Kimi ana i te Tūrangawaewae Hou
GEO:-36.950721;174.652536
LOCATION:Titrangi War Memorial Hall\, South Titirangi Road\, Auckland\, Auc
 kland\, 0604\, New Zealand
END:VEVENT
END:VCALENDAR
