BEGIN:VCALENDAR
VERSION:2.0
PRODID:-//Squarespace Inc/Squarespace 6//v6//EN
BEGIN:VEVENT
UID:5b3b37ad758d46337de5282d@squarespace.com
DTSTAMP:20180816T030325Z
DTSTART:20180915T200000Z
DTEND:20180915T204500Z
SUMMARY:Ink and Blood |  Te Waituhi me Te Toto
GEO:-36.939057;174.655745
LOCATION:Titirangi War Memorial Hall\, South Titirangi Road\, Auckland\, Au
 ckland\, 0604\, New Zealand
END:VEVENT
END:VCALENDAR
