BEGIN:VCALENDAR
VERSION:2.0
PRODID:-//Squarespace Inc/Squarespace 6//v6//EN
BEGIN:VEVENT
UID:5b39ecb0352f5378b7d7d725@squarespace.com
DTSTAMP:20180816T030209Z
DTSTART:20180915T173000Z
DTEND:20180915T181500Z
SUMMARY:The Game of Our Lives  | Te Tākaro o ō Tātou Oranga
GEO:-36.939057;174.655745
LOCATION:Titirangi War Memorial Hall\, South Titirangi Road\, Auckland\, Au
 ckland\, 0604\, New Zealand
END:VEVENT
END:VCALENDAR
