BEGIN:VCALENDAR
VERSION:2.0
PRODID:-//Squarespace Inc/Squarespace 6//v6//EN
BEGIN:VEVENT
UID:5b46b575352f53e4c87c8f5d@squarespace.com
DTSTAMP:20180717T083557Z
DTSTART:20180915T140000Z
DTEND:20180916T190000Z
SUMMARY:Tuhi Tika - Playwright's Wānanga
GEO:-36.876722;174.627288
LOCATION:The Cellar Theatre\, Corban Estate Arts Centre\, Mount Lebanon Lan
 e\, Auckland\, Auckland\, New Zealand
END:VEVENT
END:VCALENDAR
